BEGIN:VCALENDAR
VERSION:2.0
BEGIN:VEVENT
SUMMARY:Reach out to LavaLab – University of Southern California about LavaLab Startup Incubator
DESCRIPTION:Reach out to them for information about their program.\n\nDescription: USC's premier student-run product incubator, founded in 2013. Each semester, 28 carefully selected USC students (developers, designers, and product managers) are organized into teams to build technology startups from scratch. Teams go through a full-semester curriculum based on YC and Zero to One methodology, culminating in Demo Night where products are pitched to investors and industry leaders.\n\n- Email: lavalab@usc.edu\n- Source: https://founder-nav.com/programs/recMkJK3PLsgecG0m\n\n---\nBrought to you by Founder Nav, helping entrepreneurs navigate the entrepreneurial ecosystem.
DTSTART:20260425T100039Z
DTEND:20260425T103039Z
END:VEVENT
END:VCALENDAR