BEGIN:VCALENDAR
VERSION:2.0
BEGIN:VEVENT
SUMMARY:Reach out to The Iowa Center for Economic Success about Educational Workshop Series
DESCRIPTION:Reach out to them for information about their program.\n\nDescription: Monthly educational workshop series covering small business topics including financial management, marketing, legal, and the 'Always Ready' series for small business owners.\n\n- Phone: (515) 283-0940\n- Email: INFO@THEIOWACENTER.ORG\n- Source: https://founder-nav.com/programs/recMbhnNqAK0C5dwc\n\n---\nBrought to you by Founder Nav, helping entrepreneurs navigate the entrepreneurial ecosystem.
DTSTART:20260425T100045Z
DTEND:20260425T103045Z
END:VEVENT
END:VCALENDAR