BEGIN:VCALENDAR
VERSION:2.0
BEGIN:VEVENT
SUMMARY:Reach out to Office of Innovation & Commercialization (UH) about Patents2Products Fellowship
DESCRIPTION:Reach out to them for information about their program.\n\nDescription: Fellowship program at UH OIC for PhD students and postdoctoral researchers focused on commercializing patented UH technologies. Fellows receive stipends, entrepreneurship training, and mentorship to develop viable business models around their research innovations.\n\n- Phone: (808) 956-9024\n- Email: patents2products@hawaii.edu\n- Source: https://founder-nav.com/programs/recMTM7ykONIuecUQ\n\n---\nBrought to you by Founder Nav, helping entrepreneurs navigate the entrepreneurial ecosystem.
DTSTART:20260425T100039Z
DTEND:20260425T103039Z
END:VEVENT
END:VCALENDAR