BEGIN:VCALENDAR
VERSION:2.0
BEGIN:VEVENT
SUMMARY:Reach out to Veterans In Business (VIB) Network about Veteran 2 Veteran Business Cohort
DESCRIPTION:Reach out to them for information about their program.\n\nDescription: A 6-month cohort program (12 participants) connecting veteran entrepreneurs with experienced veteran business mentors for peer learning and business development support.\n\n- Email: rebecca@vibnetwork.org\n- Source: https://founder-nav.com/programs/recMRU1L8jpWtJPOU\n\n---\nBrought to you by Founder Nav, helping entrepreneurs navigate the entrepreneurial ecosystem.
DTSTART:20260426T100023Z
DTEND:20260426T103023Z
END:VEVENT
END:VCALENDAR