BEGIN:VCALENDAR
VERSION:2.0
BEGIN:VEVENT
SUMMARY:Reach out to SBDC – Lead: Central CA SBDC Regional Network about SBDC Business Advising & Mentoring
DESCRIPTION:Reach out to them for information about their program.\n\nDescription: Provides expert advising, training, market research, and access to capital to help businesses launch, grow, transition, or innovate, offering most services at low or no cost to support entrepreneurs and existing businesses in Central and Coastal California.\n\n- Phone: (888) 842-3415\n- Email: casbdc@ucmerced.edu\n- Source: https://founder-nav.com/programs/recMCmA86tfGP3332\n\n---\nBrought to you by Founder Nav, helping entrepreneurs navigate the entrepreneurial ecosystem.
DTSTART:20260425T100055Z
DTEND:20260425T103055Z
END:VEVENT
END:VCALENDAR