BEGIN:VCALENDAR
VERSION:2.0
BEGIN:VEVENT
SUMMARY:Reach out to Johns Hopkins Technology Ventures about Pava Marie LaPere Center / Social Innovation Lab
DESCRIPTION:Reach out to them for information about their program.\n\nDescription: A 6-month accelerator (January-June) open to all Baltimore-area applicants ages 18+, not limited to JHU affiliates. Accepts a cohort of 15 mission-driven ventures with a focus on social impact. Participants engage in weekly online and in-person sessions at 320 W 29th St, Suite 200, Baltimore. Offers a $5K grant stipend per team and a $15K cohort prize awarded at Demo Day.\n\n- Source: https://founder-nav.com/programs/recM4jm2nAxwhhOUk\n\n---\nBrought to you by Founder Nav, helping entrepreneurs navigate the entrepreneurial ecosystem.
DTSTART:20260425T100041Z
DTEND:20260425T103041Z
END:VEVENT
END:VCALENDAR