BEGIN:VCALENDAR
VERSION:2.0
BEGIN:VEVENT
SUMMARY:Reach out to The Old Fort at Fort Lewis College about The Old Fort Entrepreneurship Programs
DESCRIPTION:Reach out to them for information about their program.\n\nDescription: Entrepreneurship and innovation center at Fort Lewis College in Durango supporting student and community entrepreneurs with programming, mentorship, resources, and connections to Southwest Colorado's startup ecosystem.\n\n- Phone: (970) 247-7009\n- Email: oldfort@fortlewis.edu\n- Source: https://founder-nav.com/programs/recLwhNSuPk853c3B\n\n---\nBrought to you by Founder Nav, helping entrepreneurs navigate the entrepreneurial ecosystem.
DTSTART:20260425T100012Z
DTEND:20260425T103012Z
END:VEVENT
END:VCALENDAR