BEGIN:VCALENDAR
VERSION:2.0
BEGIN:VEVENT
SUMMARY:Reach out to EntrePartners about 1 Million Cups Iowa City
DESCRIPTION:Reach out to them for information about their program.\n\nDescription: Free weekly gathering where entrepreneurs present their businesses and receive feedback from a community of peers, mentors, and supporters over coffee.\n\n- Source: https://founder-nav.com/programs/recLwVqso97Fvh7Xe\n\n---\nBrought to you by Founder Nav, helping entrepreneurs navigate the entrepreneurial ecosystem.
DTSTART:20260425T100040Z
DTEND:20260425T103040Z
END:VEVENT
END:VCALENDAR