BEGIN:VCALENDAR
VERSION:2.0
BEGIN:VEVENT
SUMMARY:Reach out to Mandala Space Ventures about SoCal-Canadian Space Accelerator
DESCRIPTION:Reach out to them for information about their program.\n\nDescription: Builds and invests in innovative space technologies by partnering with founders, providing technical expertise, and leveraging strategic capital to accelerate the commercialization of daring concepts for the emerging space economy.\n\n- Email: info@mandalaspaceventures.com\n- Source: https://founder-nav.com/programs/recLwK3S1kH5t2Qgj\n\n---\nBrought to you by Founder Nav, helping entrepreneurs navigate the entrepreneurial ecosystem.
DTSTART:20260425T100029Z
DTEND:20260425T103029Z
END:VEVENT
END:VCALENDAR