BEGIN:VCALENDAR
VERSION:2.0
BEGIN:VEVENT
SUMMARY:Reach out to Idaho SBDC – Boise about Business Training & Workshops
DESCRIPTION:Reach out to them for information about their program.\n\nDescription: Low-cost and free business training workshops for Boise-area entrepreneurs, hosted by the Idaho SBDC State Office at Boise State University. Wide range of workshops on marketing, business planning, finance, and specialized topics.\n\n- Phone: (208) 426-3875\n- Source: https://founder-nav.com/programs/recLedJYAjlWtOUao\n\n---\nBrought to you by Founder Nav, helping entrepreneurs navigate the entrepreneurial ecosystem.
DTSTART:20260425T100000Z
DTEND:20260425T103000Z
END:VEVENT
END:VCALENDAR