BEGIN:VCALENDAR
VERSION:2.0
BEGIN:VEVENT
SUMMARY:Reach out to Center for Business Growth @ NMDC about Center for Business Growth Entrepreneurial Training & Counseling
DESCRIPTION:Reach out to them for information about their program.\n\nDescription: A business support program for entrepreneurs in Northern and Eastern Maine offering confidential counseling, training, youth entrepreneurship, and access to capital at any stage of business.\n\n- Source: https://founder-nav.com/programs/recLdCvkMmUi5QAeq\n\n---\nBrought to you by Founder Nav, helping entrepreneurs navigate the entrepreneurial ecosystem.
DTSTART:20260425T100052Z
DTEND:20260425T103052Z
END:VEVENT
END:VCALENDAR