BEGIN:VCALENDAR
VERSION:2.0
BEGIN:VEVENT
SUMMARY:Reach out to Hawaii SBDC – Kauaʻi about Business Advising (No-Cost, One-on-One)
DESCRIPTION:Reach out to them for information about their program.\n\nDescription: No-cost, confidential business advising from the Hawaii SBDC Kauai office for Kauai entrepreneurs. SBA-funded advisors provide guidance on starting a business, financing, marketing, product technical assistance, business planning, export assistance, and SBA program navigation.\n\n- Phone: (808) 245-1748\n- Email: kauai@hisbdc.org\n- Source: https://founder-nav.com/programs/recLWI8HFZnw6rWk5\n\n---\nBrought to you by Founder Nav, helping entrepreneurs navigate the entrepreneurial ecosystem.
DTSTART:20260425T100058Z
DTEND:20260425T103058Z
END:VEVENT
END:VCALENDAR