BEGIN:VCALENDAR
VERSION:2.0
BEGIN:VEVENT
SUMMARY:Reach out to Northwest Colorado Innovation Center (NCIC) about Northwest Colorado Innovation Center (NCIC)
DESCRIPTION:Reach out to them for information about their program.\n\nDescription: Regional innovation center for entrepreneurs in Northwest Colorado providing business advising, training, and support for startups and growing businesses in Routt, Moffat, Rio Blanco, and Garfield counties.\n\n- Phone: (970) 870-5221\n- Source: https://founder-nav.com/programs/recLP8P9T8gWIuhmc\n\n---\nBrought to you by Founder Nav, helping entrepreneurs navigate the entrepreneurial ecosystem.
DTSTART:20260425T100025Z
DTEND:20260425T103025Z
END:VEVENT
END:VCALENDAR