BEGIN:VCALENDAR
VERSION:2.0
BEGIN:VEVENT
SUMMARY:Reach out to BioConnect Iowa about SBIR/STTR Outreach Program
DESCRIPTION:Reach out to them for information about their program.\n\nDescription: Free federal grant application assistance program helping Iowa businesses prepare SBIR and STTR Phase I and Phase II applications through expert technical writing support.\n\n- Source: https://founder-nav.com/programs/recLO3l9TYLdJyPgW\n\n---\nBrought to you by Founder Nav, helping entrepreneurs navigate the entrepreneurial ecosystem.
DTSTART:20260425T100040Z
DTEND:20260425T103040Z
END:VEVENT
END:VCALENDAR