BEGIN:VCALENDAR
VERSION:2.0
BEGIN:VEVENT
SUMMARY:Reach out to Defense Innovation OnRamp Hub: Kansas about Cybersecurity Resilience Coaching
DESCRIPTION:Reach out to them for information about their program.\n\nDescription: Coaching program helping Kansas businesses build cybersecurity resilience to meet defense contracting requirements and protect against cyber threats.\n\n- Phone: (316) 978-2705\n- Source: https://founder-nav.com/programs/recLNpjrq6fprlQsx\n\n---\nBrought to you by Founder Nav, helping entrepreneurs navigate the entrepreneurial ecosystem.
DTSTART:20260425T100027Z
DTEND:20260425T103027Z
END:VEVENT
END:VCALENDAR