BEGIN:VCALENDAR
VERSION:2.0
BEGIN:VEVENT
SUMMARY:Reach out to UCI Beall Applied Innovation – The Cove @ UCI about Wayfinder Incubator Program
DESCRIPTION:Reach out to them for information about their program.\n\nDescription: Provides programs, mentorship, and resources to help innovators and entrepreneurs at UCI move discoveries toward market, supporting successful outcomes for campus and community startups at every stage of development.\n\n- Phone: (949) 824-2683\n- Email: matthew.hanson@uci.edu\n- Source: https://founder-nav.com/programs/recLKrsYMOtEikhCg\n\n---\nBrought to you by Founder Nav, helping entrepreneurs navigate the entrepreneurial ecosystem.
DTSTART:20260425T100036Z
DTEND:20260425T103036Z
END:VEVENT
END:VCALENDAR