BEGIN:VCALENDAR
VERSION:2.0
BEGIN:VEVENT
SUMMARY:Reach out to West end Neighborhood House about Launcher Entrepreneurship Program
DESCRIPTION:Reach out to them for information about their program.\n\nDescription: Free entrepreneurship training program focused on helping aspiring entrepreneurs from low-income and underrepresented communities launch and grow small businesses.\n\n- Source: https://founder-nav.com/programs/recLJUEawfvmgibG9\n\n---\nBrought to you by Founder Nav, helping entrepreneurs navigate the entrepreneurial ecosystem.
DTSTART:20260425T100027Z
DTEND:20260425T103027Z
END:VEVENT
END:VCALENDAR