BEGIN:VCALENDAR
VERSION:2.0
BEGIN:VEVENT
SUMMARY:Reach out to Manos Accelerator about Manos Accelerator Program
DESCRIPTION:Reach out to them for information about their program.\n\nDescription: A 3-month accelerator in San Jose focused on Latino and emerging entrepreneurs building companies in mobile, SaaS, IoT, cloud, fintech, AR/VR, and AI. Takes 4% equity in exchange for mentorship, investor connections, and program support.\n\n- Phone: (408) 380-7216\n- Email: sylvia@manosaccelerator.com\n- Source: https://founder-nav.com/programs/recLII1xminwmA7ri\n\n---\nBrought to you by Founder Nav, helping entrepreneurs navigate the entrepreneurial ecosystem.
DTSTART:20260424T100018Z
DTEND:20260424T103018Z
END:VEVENT
END:VCALENDAR