BEGIN:VCALENDAR
VERSION:2.0
BEGIN:VEVENT
SUMMARY:Reach out to Unknown Hub about gBETA Accelerator (in partnership with Gener8tor)
DESCRIPTION:Reach out to them for information about their program.\n\nDescription: Empowers entrepreneurs in Ventura County through accelerator programs, mentorship, and community collaboration, helping founders turn bold ideas into thriving companies that create jobs, drive innovation, and strengthen the local economy.\n\n- Source: https://founder-nav.com/programs/recLDhAshqHesCF1W\n\n---\nBrought to you by Founder Nav, helping entrepreneurs navigate the entrepreneurial ecosystem.
DTSTART:20260425T100012Z
DTEND:20260425T103012Z
END:VEVENT
END:VCALENDAR