BEGIN:VCALENDAR
VERSION:2.0
BEGIN:VEVENT
SUMMARY:Reach out to Maryland Women’s Business Center Prince George’s County about Founders Rising Business Accelerator
DESCRIPTION:Reach out to them for information about their program.\n\nDescription: A business accelerator specifically designed for women entrepreneurs in Prince George's County, providing structured business development support, mentorship, and resources to help women-owned businesses scale and grow. Participants receive hands-on coaching, peer learning opportunities, and connections to funding and markets.\n\n- Source: https://founder-nav.com/programs/recL9qbsAOgxa25Bm\n\n---\nBrought to you by Founder Nav, helping entrepreneurs navigate the entrepreneurial ecosystem.
DTSTART:20260425T100046Z
DTEND:20260425T103046Z
END:VEVENT
END:VCALENDAR