BEGIN:VCALENDAR
VERSION:2.0
BEGIN:VEVENT
SUMMARY:Reach out to Michigan SBDC West Michigan Region about SBDC Export Services
DESCRIPTION:Reach out to them for information about their program.\n\nDescription: The Michigan SBDC partners with the Michigan Economic Development Corporation International Trade Services to deliver quality opportunities to small businesses pursuing exports. With 95% of the world’s population living outside of the U.S., selling goods and services overseas can help your business increase sales and achieve long term stability.\n\n- Source: https://founder-nav.com/programs/recL7R6dU1mhakPF9\n\n---\nBrought to you by Founder Nav, helping entrepreneurs navigate the entrepreneurial ecosystem.
DTSTART:20260425T100057Z
DTEND:20260425T103057Z
END:VEVENT
END:VCALENDAR