BEGIN:VCALENDAR
VERSION:2.0
BEGIN:VEVENT
SUMMARY:Reach out to Fintech Innovation Hub - University of Delaware about FinTech Workforce Training Programs
DESCRIPTION:Reach out to them for information about their program.\n\nDescription: The FinTech Innovation Hub at UD offers workforce training and professional development programs in financial technology for university students and working professionals. Programs include industry-focused courses, internship opportunities, Lunch & Learn sessions with fintech companies, and community engagement initiatives to increase financial literacy and digital empowerment.\n\n- Phone: (302) 831-7140\n- Email: oeip-info@udel.edu\n- Source: https://founder-nav.com/programs/recL1PLKafJHc0dJc\n\n---\nBrought to you by Founder Nav, helping entrepreneurs navigate the entrepreneurial ecosystem.
DTSTART:20260425T100019Z
DTEND:20260425T103019Z
END:VEVENT
END:VCALENDAR