BEGIN:VCALENDAR
VERSION:2.0
BEGIN:VEVENT
SUMMARY:Reach out to Grand Rapids SmartZone about Conquer Accelerator Program
DESCRIPTION:Reach out to them for information about their program.\n\nDescription: This ten-week intensive program focuses on completing tailored, goal-driven benchmarks\n\n- Phone: (616) 456-3431\n- Email: econdevshrd@grcity.us\n- Source: https://founder-nav.com/programs/recKx464nnmnK6gSF\n\n---\nBrought to you by Founder Nav, helping entrepreneurs navigate the entrepreneurial ecosystem.
DTSTART:20260425T100024Z
DTEND:20260425T103024Z
END:VEVENT
END:VCALENDAR