BEGIN:VCALENDAR
VERSION:2.0
BEGIN:VEVENT
SUMMARY:Reach out to M&T Bank Small Business Accelerator Program about M&T Bank Small Business Accelerator Program
DESCRIPTION:Reach out to them for information about their program.\n\nDescription: Intensive weeks-long accelerator for small businesses in the Bridgeport area covering business planning, credit fundamentals, marketing, and pitch skills, culminating in a cash-prize competition.\n\n- Source: https://founder-nav.com/programs/recKr1baz8uGJV7cd\n\n---\nBrought to you by Founder Nav, helping entrepreneurs navigate the entrepreneurial ecosystem.
DTSTART:20260425T100037Z
DTEND:20260425T103037Z
END:VEVENT
END:VCALENDAR