BEGIN:VCALENDAR
VERSION:2.0
BEGIN:VEVENT
SUMMARY:Reach out to Unknown Hub about Accelerate UConn (Propelus)
DESCRIPTION:Reach out to them for information about their program.\n\nDescription: Provides entrepreneurial teams with training, mentorship, and funding to explore the commercial potential of scientific or technological innovations, focusing on customer discovery and business model development through the Lean LaunchPad methodology.\n\n- Email: alycia.chrosniak@uconn.edu\n- Source: https://founder-nav.com/programs/recKkrdCRRXaeuxJc\n\n---\nBrought to you by Founder Nav, helping entrepreneurs navigate the entrepreneurial ecosystem.
DTSTART:20260425T100043Z
DTEND:20260425T103043Z
END:VEVENT
END:VCALENDAR