BEGIN:VCALENDAR
VERSION:2.0
BEGIN:VEVENT
SUMMARY:Reach out to Velocity about Market Like You Own It
DESCRIPTION:Reach out to them for information about their program.\n\nDescription: A cohort-based hands-on marketing program delivered in partnership with ASH Interactive, teaching business owners to build a complete, repeatable marketing system — content, strategy, audience targeting, and analytics — without relying on outside vendors.\n\n- Phone: (586) 816-9737\n- Email: info@mivelocity.com\n- Source: https://founder-nav.com/programs/recKUjosk5jxXtNBM\n\n---\nBrought to you by Founder Nav, helping entrepreneurs navigate the entrepreneurial ecosystem.
DTSTART:20260421T100008Z
DTEND:20260421T103008Z
END:VEVENT
END:VCALENDAR