BEGIN:VCALENDAR
VERSION:2.0
BEGIN:VEVENT
SUMMARY:Reach out to AngelPad about AngelPad Accelerator Program
DESCRIPTION:Reach out to them for information about their program.\n\nDescription: Ranked #1 U.S. accelerator by MIT/Rice University's Seed Accelerator Rankings Project. A highly selective seed-stage accelerator in San Francisco and New York, accepting ~15 teams twice per year from ~2,000+ applicants. The 10-week intensive program covers product-market fit, target market definition, first validation, and investor meeting preparation. Has launched 150+ companies with $1.8B total funding raised. Portfolio includes Postmates, Buffer, Periscope Data, DroneDeploy, and 3 unicorns.\n\n- Source: https://founder-nav.com/programs/recKUbjC19ffZR570\n\n---\nBrought to you by Founder Nav, helping entrepreneurs navigate the entrepreneurial ecosystem.
DTSTART:20260425T100023Z
DTEND:20260425T103023Z
END:VEVENT
END:VCALENDAR