BEGIN:VCALENDAR
VERSION:2.0
BEGIN:VEVENT
SUMMARY:Reach out to REDF – Los Angeles Office about LA:RISE (Los Angeles Regional Initiative for Social Enterprise)
DESCRIPTION:Reach out to them for information about their program.\n\nDescription: A city/county-funded workforce development initiative managed by REDF connecting Los Angeles workforce agencies with employment social enterprises. Helps individuals overcoming barriers to employment (homelessness, justice involvement) gain jobs, on-the-job training, and wraparound support services. ESEs provide paid transitional work while participants receive case management, childcare/transportation assistance, and job placement support. Funded by CA Employment Development Department and WIOA.\n\n- Phone: (415) 561-6683\n- Email: lwarren@redf.org\n- Source: https://founder-nav.com/programs/recKSLP1QvHeEeZyo\n\n---\nBrought to you by Founder Nav, helping entrepreneurs navigate the entrepreneurial ecosystem.
DTSTART:20260425T100020Z
DTEND:20260425T103020Z
END:VEVENT
END:VCALENDAR