BEGIN:VCALENDAR
VERSION:2.0
BEGIN:VEVENT
SUMMARY:Reach out to Colorado Office of Economic Development & International Trade about OEDIT Small Business Training Workshops
DESCRIPTION:Reach out to them for information about their program.\n\nDescription: Free and low-cost training workshops to help existing and new businesses grow in Colorado. Topics range from operations and marketing to finance and digital strategy.\n\n- Phone: (303) 892-3840\n- Email: oedit.info@state.co.us\n- Source: https://founder-nav.com/programs/recKRMJ1wstcCGljA\n\n---\nBrought to you by Founder Nav, helping entrepreneurs navigate the entrepreneurial ecosystem.
DTSTART:20260425T100048Z
DTEND:20260425T103048Z
END:VEVENT
END:VCALENDAR