BEGIN:VCALENDAR
VERSION:2.0
BEGIN:VEVENT
SUMMARY:Reach out to Unknown Hub about Crucible Ignitor
DESCRIPTION:Reach out to them for information about their program.\n\nDescription: Offers high-intensity support for startups developing dual-use technologies, providing government customer discovery, SBIR/STTR funding guidance, go-to-market assistance, and access to defense networks to accelerate entry into national security and public sector markets.\n\n- Email: start@innovationempire.us\n- Source: https://founder-nav.com/programs/recKNFCvyXMmT8NRg\n\n---\nBrought to you by Founder Nav, helping entrepreneurs navigate the entrepreneurial ecosystem.
DTSTART:20260425T100046Z
DTEND:20260425T103046Z
END:VEVENT
END:VCALENDAR