BEGIN:VCALENDAR
VERSION:2.0
BEGIN:VEVENT
SUMMARY:Reach out to ISU Pappajohn Center for Entrepreneurship about CyBIZ Lab (Student Consulting)
DESCRIPTION:Reach out to them for information about their program.\n\nDescription: Free student consulting service providing cross-functional ISU student teams led by faculty mentors to solve business challenges for external companies.\n\n- Phone: (515) 296-5302\n- Email: aandrade@iastate.edu\n- Source: https://founder-nav.com/programs/recKLBAC55BYdA6Ls\n\n---\nBrought to you by Founder Nav, helping entrepreneurs navigate the entrepreneurial ecosystem.
DTSTART:20260425T100057Z
DTEND:20260425T103057Z
END:VEVENT
END:VCALENDAR