BEGIN:VCALENDAR
VERSION:2.0
BEGIN:VEVENT
SUMMARY:Reach out to Arizona Western College Food Incubator about Arizona Western College Food Business Incubator
DESCRIPTION:Reach out to them for information about their program.\n\nDescription: A food business incubator at Arizona Western College providing licensed commercial kitchen space, business training, and resources for food entrepreneurs in the Yuma region.\n\n- Source: https://founder-nav.com/programs/recKI3DczMbakg62P\n\n---\nBrought to you by Founder Nav, helping entrepreneurs navigate the entrepreneurial ecosystem.
DTSTART:20260425T100051Z
DTEND:20260425T103051Z
END:VEVENT
END:VCALENDAR