BEGIN:VCALENDAR
VERSION:2.0
BEGIN:VEVENT
SUMMARY:Reach out to Center for Changing Lives about Small Business Coaching
DESCRIPTION:Reach out to them for information about their program.\n\nDescription: We offer Small Business Support & Coaching to connect you to the resources you need, whether you are launching your entrepreneurial dream, or if you are a long-standing business owner.\n\n- Phone: (773) 342-6210\n- Email: frontdesk@cclconnect.org\n- Source: https://founder-nav.com/programs/recKD1s6lhAMF5dlb\n\n---\nBrought to you by Founder Nav, helping entrepreneurs navigate the entrepreneurial ecosystem.
DTSTART:20260425T100019Z
DTEND:20260425T103019Z
END:VEVENT
END:VCALENDAR