BEGIN:VCALENDAR
VERSION:2.0
BEGIN:VEVENT
SUMMARY:Reach out to Prince George's County Economic Development Corporation about Entrepreneurs In Residence Program
DESCRIPTION:Reach out to them for information about their program.\n\nDescription: One-on-one coaching program pairing entrepreneurs with expert coaches in AI/tech, leadership, government contracting, and business operations at ISBI.\n\n- Source: https://founder-nav.com/programs/recKBuwjmh2K8FZAR\n\n---\nBrought to you by Founder Nav, helping entrepreneurs navigate the entrepreneurial ecosystem.
DTSTART:20260425T100011Z
DTEND:20260425T103011Z
END:VEVENT
END:VCALENDAR