BEGIN:VCALENDAR
VERSION:2.0
BEGIN:VEVENT
SUMMARY:Reach out to Lean Rocket Lab about Industry 4.0 Accelerator
DESCRIPTION:Reach out to them for information about their program.\n\nDescription: Accelerates Michigan manufacturers adoption of i4.0 technologies, increasing Global competitiveness.\n\n- Email: sierra@leanrocketlab.org\n- Source: https://founder-nav.com/programs/recK5yhMLNG45xjp6\n\n---\nBrought to you by Founder Nav, helping entrepreneurs navigate the entrepreneurial ecosystem.
DTSTART:20260426T100043Z
DTEND:20260426T103043Z
END:VEVENT
END:VCALENDAR