BEGIN:VCALENDAR
VERSION:2.0
BEGIN:VEVENT
SUMMARY:Reach out to Boise State – Venture College about Reverse Pitch Competitions (Hacking for Homebuilding / Cybersecurity Entrepreneur Challenge)
DESCRIPTION:Reach out to them for information about their program.\n\nDescription: Industry-sponsored reverse pitch competitions where companies present real-world problems and student/entrepreneur teams compete to develop and pitch innovative solutions — offered each fall semester.\n\n- Source: https://founder-nav.com/programs/recK2umQs5KqCipNn\n\n---\nBrought to you by Founder Nav, helping entrepreneurs navigate the entrepreneurial ecosystem.
DTSTART:20260425T100043Z
DTEND:20260425T103043Z
END:VEVENT
END:VCALENDAR