BEGIN:VCALENDAR
VERSION:2.0
BEGIN:VEVENT
SUMMARY:Reach out to Arizona State University about Venture Devils (ASU Edson E+I)
DESCRIPTION:Reach out to them for information about their program.\n\nDescription: A student-focused entrepreneurship community at ASU and Maricopa Community Colleges providing mentorship, workshops, and funding access to help students launch and grow ventures.\n\n- Email: ei@asu.edu\n- Source: https://founder-nav.com/programs/recJxPvxUHFNHPvp7\n\n---\nBrought to you by Founder Nav, helping entrepreneurs navigate the entrepreneurial ecosystem.
DTSTART:20260425T100004Z
DTEND:20260425T103004Z
END:VEVENT
END:VCALENDAR