BEGIN:VCALENDAR
VERSION:2.0
BEGIN:VEVENT
SUMMARY:Reach out to Kansas SBDC @ Washburn University Region about Training Seminars & Workshops
DESCRIPTION:Reach out to them for information about their program.\n\nDescription: Low- and no-cost business education seminars and workshops hosted by the Washburn SBDC for entrepreneurs and business owners in the Topeka area, covering topics like business planning, marketing, financial management, and legal considerations.\n\n- Email: ksbdc@washburn.edu\n- Source: https://founder-nav.com/programs/recJnKkYrlt8kM3JV\n\n---\nBrought to you by Founder Nav, helping entrepreneurs navigate the entrepreneurial ecosystem.
DTSTART:20260425T100033Z
DTEND:20260425T103033Z
END:VEVENT
END:VCALENDAR