BEGIN:VCALENDAR
VERSION:2.0
BEGIN:VEVENT
SUMMARY:Reach out to The Mixing Bowl Incubator about The Mixing Bowl Bakery Business Incubator
DESCRIPTION:Reach out to them for information about their program.\n\nDescription: A GMP-certified commercial baking kitchen and business incubator located at 6848 Reisterstown Rd, Baltimore. Provides professional baking equipment including rack ovens, 180-quart mixers, donut makers, proofers, and walk-in coolers to help food entrepreneurs launch and scale bakery businesses. Offers access to a licensed facility for cottage food producers and aspiring bakery owners.\n\n- Email: admin@bakeryoperations.com\n- Source: https://founder-nav.com/programs/recJholMpVFuUgfyz\n\n---\nBrought to you by Founder Nav, helping entrepreneurs navigate the entrepreneurial ecosystem.
DTSTART:20260425T100025Z
DTEND:20260425T103025Z
END:VEVENT
END:VCALENDAR