BEGIN:VCALENDAR
VERSION:2.0
BEGIN:VEVENT
SUMMARY:Reach out to Unknown Hub about CIE Small Business Development Center (SBDC)
DESCRIPTION:Reach out to them for information about their program.\n\nDescription: Provides complimentary business assistance, expert advising, and practical training to help entrepreneurs and established companies in San Luis Obispo County launch, grow, and secure capital investment, fostering innovation and job creation.\n\n- Phone: (805) 756-5180\n- Email: slosbdc@gmail.com\n- Source: https://founder-nav.com/programs/recJhkPjpSfH3BvBZ\n\n---\nBrought to you by Founder Nav, helping entrepreneurs navigate the entrepreneurial ecosystem.
DTSTART:20260425T100033Z
DTEND:20260425T103033Z
END:VEVENT
END:VCALENDAR