BEGIN:VCALENDAR
VERSION:2.0
BEGIN:VEVENT
SUMMARY:Reach out to Nonprofit Institute at CSM about Nonprofit Institute Professional Development Training
DESCRIPTION:Reach out to them for information about their program.\n\nDescription: Professional development training for nonprofit professionals, offering courses on leadership, fundraising, marketing, governance, and operations through monthly networking and community calls.\n\n- Phone: (301) 934-7544\n- Email: nonprofit@csmd.edu\n- Source: https://founder-nav.com/programs/recJYwR2ssN9Rcrhl\n\n---\nBrought to you by Founder Nav, helping entrepreneurs navigate the entrepreneurial ecosystem.
DTSTART:20260425T100008Z
DTEND:20260425T103008Z
END:VEVENT
END:VCALENDAR