BEGIN:VCALENDAR
VERSION:2.0
BEGIN:VEVENT
SUMMARY:Reach out to Boise State – Venture College about Idaho Entrepreneur Challenge
DESCRIPTION:Reach out to them for information about their program.\n\nDescription: A statewide pitch competition for higher education students across Idaho, offering seed funding and services to advance student startups — with over $100,000 in prizes distributed annually.\n\n- Source: https://founder-nav.com/programs/recJXwcqgFpFy3plr\n\n---\nBrought to you by Founder Nav, helping entrepreneurs navigate the entrepreneurial ecosystem.
DTSTART:20260425T100010Z
DTEND:20260425T103010Z
END:VEVENT
END:VCALENDAR