BEGIN:VCALENDAR
VERSION:2.0
BEGIN:VEVENT
SUMMARY:Reach out to Center for Innovation and Entrepreneurship about Hustle N Harvest Preaccelerator
DESCRIPTION:Reach out to them for information about their program.\n\nDescription: This program is meant to prepare you for the application for the opportunities to apply and be accepted to the 3 major accelerators (Tech Stars ,Y Combinator, 500 Start ups)\n\n- Email: contact@hustlenharvest.com\n- Source: https://founder-nav.com/programs/recJThF0o7wsdyvp5\n\n---\nBrought to you by Founder Nav, helping entrepreneurs navigate the entrepreneurial ecosystem.
DTSTART:20260425T100020Z
DTEND:20260425T103020Z
END:VEVENT
END:VCALENDAR