BEGIN:VCALENDAR
VERSION:2.0
BEGIN:VEVENT
SUMMARY:Reach out to Kansas SBDC @ University of Kansas Region about No-Cost One-on-One Business Advising
DESCRIPTION:Reach out to them for information about their program.\n\nDescription: Free, confidential business advising for startups and existing businesses at the KU-SBDC, covering business plan development, financing, marketing, and operations for entrepreneurs in the Lawrence and surrounding northeast Kansas region.\n\n- Phone: (785) 843-8844\n- Email: ksbdc@ku.edu\n- Source: https://founder-nav.com/programs/recJR05DtxACXwvrV\n\n---\nBrought to you by Founder Nav, helping entrepreneurs navigate the entrepreneurial ecosystem.
DTSTART:20260425T100026Z
DTEND:20260425T103026Z
END:VEVENT
END:VCALENDAR