BEGIN:VCALENDAR
VERSION:2.0
BEGIN:VEVENT
SUMMARY:Reach out to University of Tennessee about Programs and training sessions
DESCRIPTION:Reach out to them for information about their program.\n\nDescription: The Regional Entrepreneurship and Economic Development Center (REED Center) offers courses, workshops and training sessions that respond to the needs of small businesses and supports regional economic development.\n\n- Phone: (731) 587-7333\n- Email: reed@utm.edu\n- Source: https://founder-nav.com/programs/recJMaLgf709tj1An\n\n---\nBrought to you by Founder Nav, helping entrepreneurs navigate the entrepreneurial ecosystem.
DTSTART:20260425T100034Z
DTEND:20260425T103034Z
END:VEVENT
END:VCALENDAR