BEGIN:VCALENDAR
VERSION:2.0
BEGIN:VEVENT
SUMMARY:Reach out to StartBlue Ocean Enterprise Accelerator – UC San Diego about StartBlue Ocean Enterprise Accelerator
DESCRIPTION:Reach out to them for information about their program.\n\nDescription: Free 4-month accelerator for U.S.-based ocean and freshwater technology startups, funded by $13.5M from NOAA. Offers two tracks: Launch (TRL 0–3, early stage) and Scale (TRL 3+, up to $200K non-dilutive funding). Provides entrepreneurship training, mentorship, technical facilities, and culminates in Demo Day at TMA Blue Tech Week. 22 startups supported, $10.1M raised, 50% female-founded.\n\n- Phone: (858) 246-5336\n- Email: startblue@ucsd.edu\n- Source: https://founder-nav.com/programs/recJIPM9K9kWWZfzC\n\n---\nBrought to you by Founder Nav, helping entrepreneurs navigate the entrepreneurial ecosystem.
DTSTART:20260425T100052Z
DTEND:20260425T103052Z
END:VEVENT
END:VCALENDAR