BEGIN:VCALENDAR
VERSION:2.0
BEGIN:VEVENT
SUMMARY:Reach out to FABRIC Incubator about FABRIC Incubator
DESCRIPTION:Reach out to them for information about their program.\n\nDescription: A Phoenix-area business incubator providing workspace, mentorship, resources, and community programming for creative, fashion, and design-focused entrepreneurs.\n\n- Source: https://founder-nav.com/programs/recJ9NTo332geJCof\n\n---\nBrought to you by Founder Nav, helping entrepreneurs navigate the entrepreneurial ecosystem.
DTSTART:20260425T100008Z
DTEND:20260425T103008Z
END:VEVENT
END:VCALENDAR