BEGIN:VCALENDAR
VERSION:2.0
BEGIN:VEVENT
SUMMARY:Reach out to Unknown Hub about TIA Startup Support Program
DESCRIPTION:Reach out to them for information about their program.\n\nDescription: Fosters research-driven companies commercializing UCSB technology, offering streamlined licensing, reduced initial costs, and support for startups spinning out of university research to drive innovation and job creation in the region.\n\n- Email: driscoll@tia.ucsb.edu\n- Source: https://founder-nav.com/programs/recJ62Y8zMMrPvrR2\n\n---\nBrought to you by Founder Nav, helping entrepreneurs navigate the entrepreneurial ecosystem.
DTSTART:20260425T100008Z
DTEND:20260425T103008Z
END:VEVENT
END:VCALENDAR