BEGIN:VCALENDAR
VERSION:2.0
BEGIN:VEVENT
SUMMARY:Reach out to NBIC about Groundbreak
DESCRIPTION:Reach out to them for information about their program.\n\nDescription: Virtual business acceleration program that is comprised of 12, three-hour sessions on alternating weeks combined with one-to-one coaching. This six-month program supports entrepreneurs in implementing the financial, legal, marketing and human capital structures to transform their business into a thriving company.\n\n- Phone: (615) 492-0045\n- Email: nbic@nbichub.org\n- Source: https://founder-nav.com/programs/recJ3JOlUNEJx2tbr\n\n---\nBrought to you by Founder Nav, helping entrepreneurs navigate the entrepreneurial ecosystem.
DTSTART:20260425T100010Z
DTEND:20260425T103010Z
END:VEVENT
END:VCALENDAR