BEGIN:VCALENDAR
VERSION:2.0
BEGIN:VEVENT
SUMMARY:Reach out to Unknown Hub about Crucible Ignitor
DESCRIPTION:Reach out to them for information about their program.\n\nDescription: Crucible Ignitor: Helps participants launch startups using West Coast federal and university lab technologies for defense and commercial applications, offering virtual workshops and mentorship for early-stage innovators.\n\nCrucible Accelerator: Provides mentorship, resources, and strategic partnership opportunities to help early-stage startups grow and address real-world challenges in the Pacific Northwest.\n\nAPEX Accelerator: Offers expert guidance for businesses seeking government contracts, including certifications and innovation grants, and supports navigation of federal, state, and local procurement platforms.\n\n- Phone: (951) 827-7941\n- Email: tp@ucr.edu\n- Source: https://founder-nav.com/programs/recIvb9rted4Bz4ti\n\n---\nBrought to you by Founder Nav, helping entrepreneurs navigate the entrepreneurial ecosystem.
DTSTART:20260425T100039Z
DTEND:20260425T103039Z
END:VEVENT
END:VCALENDAR